BEGIN:VCALENDAR
VERSION:2.0
PRODID:-//Endorso//Watch Free Events//EN
CALSCALE:GREGORIAN
METHOD:PUBLISH
BEGIN:VEVENT
UID:serie-a-juventus-vs-milan-2026-04-20@endorso.com
DTSTAMP:20260419T171256Z
DTSTART:20260420T184500Z
DTEND:20260420T204500Z
SUMMARY:Juventus vs Milan — Serie A (Watch Free with VPN)
DESCRIPTION:A classic Serie A clash between two of Italy's most decorated clubs. Expect a tactical battle as both teams fight for a Champions League spot.\\n\\nFree on RAI (Italy).\\n\\nFull guide: https://endorso.com/vpn/watch/serie-a-juventus-vs-milan-2026-04-20
URL:https://endorso.com/vpn/watch/serie-a-juventus-vs-milan-2026-04-20
LOCATION:https://endorso.com/vpn/watch/serie-a-juventus-vs-milan-2026-04-20
END:VEVENT
END:VCALENDAR