BEGIN:VCALENDAR
VERSION:2.0
PRODID:-//Endorso//Watch Free Events//EN
CALSCALE:GREGORIAN
METHOD:PUBLISH
BEGIN:VEVENT
UID:serie-a-juventus-vs-ac-milan-2026-05-03@endorso.com
DTSTAMP:20260422T105256Z
DTSTART:20260503T184500Z
DTEND:20260503T204500Z
SUMMARY:Juventus vs AC Milan — Serie A (Watch Free with VPN)
DESCRIPTION:A historic rivalry in Italian football with massive implications for the top four standings. Tactical discipline meets individual brilliance.\\n\\nFree on RAI (Italy).\\n\\nFull guide: https://endorso.com/vpn/watch/serie-a-juventus-vs-ac-milan-2026-05-03
URL:https://endorso.com/vpn/watch/serie-a-juventus-vs-ac-milan-2026-05-03
LOCATION:https://endorso.com/vpn/watch/serie-a-juventus-vs-ac-milan-2026-05-03
END:VEVENT
END:VCALENDAR