BEGIN:VCALENDAR
VERSION:2.0
PRODID:-//Endorso//Watch Free Events//EN
CALSCALE:GREGORIAN
METHOD:PUBLISH
BEGIN:VEVENT
UID:serie-a-juventus-vs-ac-milan-2026-04-26@endorso.com
DTSTAMP:20260421T192541Z
DTSTART:20260426T184500Z
DTEND:20260426T204500Z
SUMMARY:Juventus vs AC Milan — Serie A (Watch Free with VPN)
DESCRIPTION:A historic clash between two giants of Italian football. Both teams are fighting for Champions League qualification spots.\\n\\nFree on RAI Play (Italy).\\n\\nFull guide: https://endorso.com/vpn/watch/serie-a-juventus-vs-ac-milan-2026-04-26
URL:https://endorso.com/vpn/watch/serie-a-juventus-vs-ac-milan-2026-04-26
LOCATION:https://endorso.com/vpn/watch/serie-a-juventus-vs-ac-milan-2026-04-26
END:VEVENT
END:VCALENDAR