BEGIN:VCALENDAR
VERSION:2.0
PRODID:-//Endorso//Watch Free Events//EN
CALSCALE:GREGORIAN
METHOD:PUBLISH
BEGIN:VEVENT
UID:serie-a-inter-vs-lazio-2026-05-03@endorso.com
DTSTAMP:20260419T170306Z
DTSTART:20260503T170000Z
DTEND:20260503T190000Z
SUMMARY:Inter vs Lazio — Serie A (Watch Free with VPN)
DESCRIPTION:Inter faces Lazio in a Serie A match. Both teams will be looking to secure valuable points as the season nears its end.\\n\\nFree on RAI (Italy).\\n\\nFull guide: https://endorso.com/vpn/watch/serie-a-inter-vs-lazio-2026-05-03
URL:https://endorso.com/vpn/watch/serie-a-inter-vs-lazio-2026-05-03
LOCATION:https://endorso.com/vpn/watch/serie-a-inter-vs-lazio-2026-05-03
END:VEVENT
END:VCALENDAR