BEGIN:VCALENDAR
VERSION:2.0
PRODID:-//Endorso//Watch Free Events//EN
CALSCALE:GREGORIAN
METHOD:PUBLISH
BEGIN:VEVENT
UID:serie-a-inter-milan-vs-roma-2026-05-03@endorso.com
DTSTAMP:20260422T044916Z
DTSTART:20260503T184500Z
DTEND:20260503T204500Z
SUMMARY:Inter Milan vs AS Roma — Serie A (Watch Free with VPN)
DESCRIPTION:Inter Milan faces a tough test against Roma as the Serie A season nears its conclusion. Crucial points for European qualification are on the line.\\n\\nFree on RAI Play (Italy).\\n\\nFull guide: https://endorso.com/vpn/watch/serie-a-inter-milan-vs-roma-2026-05-03
URL:https://endorso.com/vpn/watch/serie-a-inter-milan-vs-roma-2026-05-03
LOCATION:https://endorso.com/vpn/watch/serie-a-inter-milan-vs-roma-2026-05-03
END:VEVENT
END:VCALENDAR