BEGIN:VCALENDAR
VERSION:2.0
PRODID:-//Endorso//Watch Free Events//EN
CALSCALE:GREGORIAN
METHOD:PUBLISH
BEGIN:VEVENT
UID:serie-a-inter-milan-vs-roma-2026-04-27@endorso.com
DTSTAMP:20260421T192422Z
DTSTART:20260427T184500Z
DTEND:20260427T204500Z
SUMMARY:Inter Milan vs Roma — Serie A (Watch Free with VPN)
DESCRIPTION:Inter hosts Roma at the San Siro. A tactical battle between two of Italy's most ambitious clubs in the final stretch of the season.\\n\\nFree on RAI Play (Italy).\\n\\nFull guide: https://endorso.com/vpn/watch/serie-a-inter-milan-vs-roma-2026-04-27
URL:https://endorso.com/vpn/watch/serie-a-inter-milan-vs-roma-2026-04-27
LOCATION:https://endorso.com/vpn/watch/serie-a-inter-milan-vs-roma-2026-04-27
END:VEVENT
END:VCALENDAR