BEGIN:VCALENDAR
VERSION:2.0
PRODID:-//Endorso//Watch Free Events//EN
CALSCALE:GREGORIAN
METHOD:PUBLISH
BEGIN:VEVENT
UID:serie-a-inter-milan-vs-napoli-2026-04-26@endorso.com
DTSTAMP:20260419T140251Z
DTSTART:20260426T160000Z
DTEND:20260426T180000Z
SUMMARY:Inter Milan vs Napoli — Serie A (Watch Free with VPN)
DESCRIPTION:A high-profile Serie A match between Inter Milan and Napoli. Both teams are known for their attacking styles\, promising an exciting game. Key match for league standings.\\n\\nFree on RAI (Italy).\\n\\nFull guide: https://endorso.com/vpn/watch/serie-a-inter-milan-vs-napoli-2026-04-26
URL:https://endorso.com/vpn/watch/serie-a-inter-milan-vs-napoli-2026-04-26
LOCATION:https://endorso.com/vpn/watch/serie-a-inter-milan-vs-napoli-2026-04-26
END:VEVENT
END:VCALENDAR