BEGIN:VCALENDAR
VERSION:2.0
PRODID:-//Endorso//Watch Free Events//EN
CALSCALE:GREGORIAN
METHOD:PUBLISH
BEGIN:VEVENT
UID:serie-a-inter-milan-vs-lazio-2026-05-08@endorso.com
DTSTAMP:20260425T025825Z
DTSTART:20260508T184500Z
DTEND:20260508T204500Z
SUMMARY:Inter Milan vs Lazio — Serie A (Watch Free with VPN)
DESCRIPTION:A crucial Friday night clash in Serie A as Inter looks to solidify their position at the top of the table.\\n\\nFree on JioCinema (India).\\n\\nFull guide: https://endorso.com/vpn/watch/serie-a-inter-milan-vs-lazio-2026-05-08
URL:https://endorso.com/vpn/watch/serie-a-inter-milan-vs-lazio-2026-05-08
LOCATION:https://endorso.com/vpn/watch/serie-a-inter-milan-vs-lazio-2026-05-08
END:VEVENT
END:VCALENDAR