BEGIN:VCALENDAR
VERSION:2.0
PRODID:-//Endorso//Watch Free Events//EN
CALSCALE:GREGORIAN
METHOD:PUBLISH
BEGIN:VEVENT
UID:serie-a-inter-milan-vs-as-roma-2026-05-10@endorso.com
DTSTAMP:20260426T044226Z
DTSTART:20260510T184500Z
DTEND:20260510T204500Z
SUMMARY:Inter Milan vs AS Roma — Serie A (Watch Free with VPN)
DESCRIPTION:A classic Italian encounter as the Nerazzurri host the Giallorossi. Tactical discipline meets creative flair in this crucial matchday 36 fixture.\\n\\nFree on JioCinema (India).\\n\\nFull guide: https://endorso.com/vpn/watch/serie-a-inter-milan-vs-as-roma-2026-05-10
URL:https://endorso.com/vpn/watch/serie-a-inter-milan-vs-as-roma-2026-05-10
LOCATION:https://endorso.com/vpn/watch/serie-a-inter-milan-vs-as-roma-2026-05-10
END:VEVENT
END:VCALENDAR