BEGIN:VCALENDAR
VERSION:2.0
PRODID:-//Endorso//Watch Free Events//EN
CALSCALE:GREGORIAN
METHOD:PUBLISH
BEGIN:VEVENT
UID:serie-a-inter-milan-vs-ac-milan-2026-05-03@endorso.com
DTSTAMP:20260422T164955Z
DTSTART:20260503T184500Z
DTEND:20260503T204500Z
SUMMARY:Inter Milan vs AC Milan — Serie A (Watch Free with VPN)
DESCRIPTION:The Derby della Madonnina is one of the most anticipated fixtures in Italian football. Fans search for this match to see the battle for Milanese supremacy.\\n\\nFree on RAI (Italy).\\n\\nFull guide: https://endorso.com/vpn/watch/serie-a-inter-milan-vs-ac-milan-2026-05-03
URL:https://endorso.com/vpn/watch/serie-a-inter-milan-vs-ac-milan-2026-05-03
LOCATION:https://endorso.com/vpn/watch/serie-a-inter-milan-vs-ac-milan-2026-05-03
END:VEVENT
END:VCALENDAR