BEGIN:VCALENDAR
VERSION:2.0
PRODID:-//Endorso//Watch Free Events//EN
CALSCALE:GREGORIAN
METHOD:PUBLISH
BEGIN:VEVENT
UID:serie-a-atalanta-vs-juventus-2026-04-27@endorso.com
DTSTAMP:20260419T140358Z
DTSTART:20260427T184500Z
DTEND:20260427T204500Z
SUMMARY:Atalanta vs Juventus — Serie A (Watch Free with VPN)
DESCRIPTION:Atalanta faces Juventus in a Serie A match. Atalanta's attacking style against Juventus's defense makes for an interesting tactical battle. Important for European qualification.\\n\\nFree on RAI (Italy).\\n\\nFull guide: https://endorso.com/vpn/watch/serie-a-atalanta-vs-juventus-2026-04-27
URL:https://endorso.com/vpn/watch/serie-a-atalanta-vs-juventus-2026-04-27
LOCATION:https://endorso.com/vpn/watch/serie-a-atalanta-vs-juventus-2026-04-27
END:VEVENT
END:VCALENDAR