BEGIN:VCALENDAR
VERSION:2.0
PRODID:-//Endorso//Watch Free Events//EN
CALSCALE:GREGORIAN
METHOD:PUBLISH
BEGIN:VEVENT
UID:premiership-rugby-saracens-vs-bristol-bears-2026-05-03@endorso.com
DTSTAMP:20260424T191819Z
DTSTART:20260503T140000Z
DTEND:20260503T160000Z
SUMMARY:Saracens vs Bristol Bears — Premiership Rugby (Watch Free with VPN)
DESCRIPTION:Saracens host the high-flying Bristol Bears in a match that promises plenty of tries. Bristol's attacking flair meets the defensive wall of the London side.\\n\\nFree on ITVX (United Kingdom).\\n\\nFull guide: https://endorso.com/vpn/watch/premiership-rugby-saracens-vs-bristol-bears-2026-05-03
URL:https://endorso.com/vpn/watch/premiership-rugby-saracens-vs-bristol-bears-2026-05-03
LOCATION:https://endorso.com/vpn/watch/premiership-rugby-saracens-vs-bristol-bears-2026-05-03
END:VEVENT
END:VCALENDAR