BEGIN:VCALENDAR
VERSION:2.0
PRODID:-//Endorso//Watch Free Events//EN
CALSCALE:GREGORIAN
METHOD:PUBLISH
BEGIN:VEVENT
UID:premiership-rugby-saracens-vs-bath-rugby-2026-05-03@endorso.com
DTSTAMP:20260421T192700Z
DTSTART:20260503T140000Z
DTEND:20260503T160000Z
SUMMARY:Saracens vs Bath Rugby — Premiership Rugby (Watch Free with VPN)
DESCRIPTION:A top-of-the-table clash as Saracens host Bath. With both teams eyeing a home semi-final\, this match is expected to be of international intensity.\\n\\nFree on ITVX (United Kingdom).\\n\\nFull guide: https://endorso.com/vpn/watch/premiership-rugby-saracens-vs-bath-rugby-2026-05-03
URL:https://endorso.com/vpn/watch/premiership-rugby-saracens-vs-bath-rugby-2026-05-03
LOCATION:https://endorso.com/vpn/watch/premiership-rugby-saracens-vs-bath-rugby-2026-05-03
END:VEVENT
END:VCALENDAR