BEGIN:VCALENDAR
VERSION:2.0
PRODID:-//Endorso//Watch Free Events//EN
CALSCALE:GREGORIAN
METHOD:PUBLISH
BEGIN:VEVENT
UID:premiership-rugby-northampton-saints-vs-saracens-2026-04-26@endorso.com
DTSTAMP:20260422T045236Z
DTSTART:20260426T140000Z
DTEND:20260426T160000Z
SUMMARY:Northampton Saints vs Saracens — Premiership Rugby (Watch Free with VPN)
DESCRIPTION:A top-of-the-table clash in the Gallagher Premiership. Both teams are vying for a home semi-final spot as the regular season nears its conclusion.\\n\\nFree on ITVX (UK).\\n\\nFull guide: https://endorso.com/vpn/watch/premiership-rugby-northampton-saints-vs-saracens-2026-04-26
URL:https://endorso.com/vpn/watch/premiership-rugby-northampton-saints-vs-saracens-2026-04-26
LOCATION:https://endorso.com/vpn/watch/premiership-rugby-northampton-saints-vs-saracens-2026-04-26
END:VEVENT
END:VCALENDAR