BEGIN:VCALENDAR
VERSION:2.0
PRODID:-//Endorso//Watch Free Events//EN
CALSCALE:GREGORIAN
METHOD:PUBLISH
BEGIN:VEVENT
UID:premiership-rugby-leicester-tigers-vs-saracens-2026-05-02@endorso.com
DTSTAMP:20260424T183119Z
DTSTART:20260502T140000Z
DTEND:20260502T160000Z
SUMMARY:Leicester Tigers vs Saracens — Premiership Rugby (Watch Free with VPN)
DESCRIPTION:A heavyweight clash in the Gallagher Premiership. Both teams are fighting for a top-four spot to secure a semi-final berth as the regular season nears its end.\\n\\nFree on ITVX (United Kingdom).\\n\\nFull guide: https://endorso.com/vpn/watch/premiership-rugby-leicester-tigers-vs-saracens-2026-05-02
URL:https://endorso.com/vpn/watch/premiership-rugby-leicester-tigers-vs-saracens-2026-05-02
LOCATION:https://endorso.com/vpn/watch/premiership-rugby-leicester-tigers-vs-saracens-2026-05-02
END:VEVENT
END:VCALENDAR