BEGIN:VCALENDAR
VERSION:2.0
PRODID:-//Endorso//Watch Free Events//EN
CALSCALE:GREGORIAN
METHOD:PUBLISH
BEGIN:VEVENT
UID:premiership-rugby-leicester-tigers-vs-northampton-saints-2026-05-02@endorso.com
DTSTAMP:20260425T110728Z
DTSTART:20260502T140000Z
DTEND:20260502T160000Z
SUMMARY:Leicester Tigers vs Northampton Saints — Premiership Rugby (Watch Free with VPN)
DESCRIPTION:The East Midlands Derby takes center stage as both teams fight for a top-four finish in the Gallagher Premiership. Expect a physical battle at Welford Road.\\n\\nFree on ITVX (United Kingdom).\\n\\nFull guide: https://endorso.com/vpn/watch/premiership-rugby-leicester-tigers-vs-northampton-saints-2026-05-02
URL:https://endorso.com/vpn/watch/premiership-rugby-leicester-tigers-vs-northampton-saints-2026-05-02
LOCATION:https://endorso.com/vpn/watch/premiership-rugby-leicester-tigers-vs-northampton-saints-2026-05-02
END:VEVENT
END:VCALENDAR