BEGIN:VCALENDAR
VERSION:2.0
PRODID:-//Endorso//Watch Free Events//EN
CALSCALE:GREGORIAN
METHOD:PUBLISH
BEGIN:VEVENT
UID:premiership-rugby-leicester-tigers-vs-northampton-saints-2026-04-25@endorso.com
DTSTAMP:20260421T192948Z
DTSTART:20260425T140000Z
DTEND:20260425T160000Z
SUMMARY:Leicester Tigers vs Northampton Saints — Premiership Rugby (Watch Free with VPN)
DESCRIPTION:The East Midlands Derby returns with both teams fighting for a spot in the Premiership semi-finals. Expect a physical encounter at Welford Road.\\n\\nFree on ITVX (United Kingdom).\\n\\nFull guide: https://endorso.com/vpn/watch/premiership-rugby-leicester-tigers-vs-northampton-saints-2026-04-25
URL:https://endorso.com/vpn/watch/premiership-rugby-leicester-tigers-vs-northampton-saints-2026-04-25
LOCATION:https://endorso.com/vpn/watch/premiership-rugby-leicester-tigers-vs-northampton-saints-2026-04-25
END:VEVENT
END:VCALENDAR