BEGIN:VCALENDAR
VERSION:2.0
PRODID:-//Endorso//Watch Free Events//EN
CALSCALE:GREGORIAN
METHOD:PUBLISH
BEGIN:VEVENT
UID:premier-league-wolves-vs-crystal-palace-2026-04-27@endorso.com
DTSTAMP:20260419T171044Z
DTSTART:20260427T130000Z
DTEND:20260427T150000Z
SUMMARY:Wolves vs Crystal Palace — Premier League (Watch Free with VPN)
DESCRIPTION:A mid-table Premier League clash. Both teams will be looking to finish the season strongly.\\n\\nFree on JioCinema (India).\\n\\nFull guide: https://endorso.com/vpn/watch/premier-league-wolves-vs-crystal-palace-2026-04-27
URL:https://endorso.com/vpn/watch/premier-league-wolves-vs-crystal-palace-2026-04-27
LOCATION:https://endorso.com/vpn/watch/premier-league-wolves-vs-crystal-palace-2026-04-27
END:VEVENT
END:VCALENDAR