BEGIN:VCALENDAR
VERSION:2.0
PRODID:-//Endorso//Watch Free Events//EN
CALSCALE:GREGORIAN
METHOD:PUBLISH
BEGIN:VEVENT
UID:premier-league-west-ham-vs-everton-2026-04-19@endorso.com
DTSTAMP:20260419T170105Z
DTSTART:20260419T140000Z
DTEND:20260419T160000Z
SUMMARY:West Ham vs Everton — Premier League (Watch Free with VPN)
DESCRIPTION:A Premier League match where both teams are looking to secure points to avoid relegation. A tense and important game for both sides.\\n\\nFree on JioCinema (India).\\n\\nFull guide: https://endorso.com/vpn/watch/premier-league-west-ham-vs-everton-2026-04-19
URL:https://endorso.com/vpn/watch/premier-league-west-ham-vs-everton-2026-04-19
LOCATION:https://endorso.com/vpn/watch/premier-league-west-ham-vs-everton-2026-04-19
END:VEVENT
END:VCALENDAR