BEGIN:VCALENDAR
VERSION:2.0
PRODID:-//Endorso//Watch Free Events//EN
CALSCALE:GREGORIAN
METHOD:PUBLISH
BEGIN:VEVENT
UID:premier-league-tottenham-vs-arsenal-2026-05-09@endorso.com
DTSTAMP:20260425T160753Z
DTSTART:20260509T113000Z
DTEND:20260509T133000Z
SUMMARY:Tottenham vs Arsenal — Premier League (Watch Free with VPN)
DESCRIPTION:The North London Derby. One of the most anticipated matches of the season as Spurs look to derail Arsenal's title hopes in their own stadium.\\n\\nFree on JioCinema (India).\\n\\nFull guide: https://endorso.com/vpn/watch/premier-league-tottenham-vs-arsenal-2026-05-09
URL:https://endorso.com/vpn/watch/premier-league-tottenham-vs-arsenal-2026-05-09
LOCATION:https://endorso.com/vpn/watch/premier-league-tottenham-vs-arsenal-2026-05-09
END:VEVENT
END:VCALENDAR