BEGIN:VCALENDAR
VERSION:2.0
PRODID:-//Endorso//Watch Free Events//EN
CALSCALE:GREGORIAN
METHOD:PUBLISH
BEGIN:VEVENT
UID:premier-league-tottenham-vs-arsenal-2026-05-03@endorso.com
DTSTAMP:20260422T045236Z
DTSTART:20260503T130000Z
DTEND:20260503T150000Z
SUMMARY:Tottenham vs Arsenal — Premier League (Watch Free with VPN)
DESCRIPTION:The North London Derby is always a highlight of the season. Arsenal travels to the Tottenham Hotspur Stadium in a match with massive implications.\\n\\nFree on JioCinema (India).\\n\\nFull guide: https://endorso.com/vpn/watch/premier-league-tottenham-vs-arsenal-2026-05-03
URL:https://endorso.com/vpn/watch/premier-league-tottenham-vs-arsenal-2026-05-03
LOCATION:https://endorso.com/vpn/watch/premier-league-tottenham-vs-arsenal-2026-05-03
END:VEVENT
END:VCALENDAR