BEGIN:VCALENDAR
VERSION:2.0
PRODID:-//Endorso//Watch Free Events//EN
CALSCALE:GREGORIAN
METHOD:PUBLISH
BEGIN:VEVENT
UID:premier-league-southampton-vs-leeds-2026-04-26@endorso.com
DTSTAMP:20260419T171337Z
DTSTART:20260426T113000Z
DTEND:20260426T133000Z
SUMMARY:Southampton vs Leeds — Premier League (Watch Free with VPN)
DESCRIPTION:A Premier League match where both teams are looking to secure points to avoid relegation. A tense and important game for both sides.\\n\\nFree on JioCinema (India).\\n\\nFull guide: https://endorso.com/vpn/watch/premier-league-southampton-vs-leeds-2026-04-26
URL:https://endorso.com/vpn/watch/premier-league-southampton-vs-leeds-2026-04-26
LOCATION:https://endorso.com/vpn/watch/premier-league-southampton-vs-leeds-2026-04-26
END:VEVENT
END:VCALENDAR