BEGIN:VCALENDAR
VERSION:2.0
PRODID:-//Endorso//Watch Free Events//EN
CALSCALE:GREGORIAN
METHOD:PUBLISH
BEGIN:VEVENT
UID:premier-league-newcastle-vs-burnley-2026-04-20@endorso.com
DTSTAMP:20260419T170301Z
DTSTART:20260420T130000Z
DTEND:20260420T150000Z
SUMMARY:Newcastle vs Burnley — Premier League (Watch Free with VPN)
DESCRIPTION:A Premier League match where both teams are looking to secure points to avoid relegation. A tense and important game for both sides.\\n\\nFree on JioCinema (India).\\n\\nFull guide: https://endorso.com/vpn/watch/premier-league-newcastle-vs-burnley-2026-04-20
URL:https://endorso.com/vpn/watch/premier-league-newcastle-vs-burnley-2026-04-20
LOCATION:https://endorso.com/vpn/watch/premier-league-newcastle-vs-burnley-2026-04-20
END:VEVENT
END:VCALENDAR