BEGIN:VCALENDAR
VERSION:2.0
PRODID:-//Endorso//Watch Free Events//EN
CALSCALE:GREGORIAN
METHOD:PUBLISH
BEGIN:VEVENT
UID:premier-league-manchester-united-vs-west-ham-2026-05-03@endorso.com
DTSTAMP:20260422T104806Z
DTSTART:20260503T140000Z
DTEND:20260503T160000Z
SUMMARY:Manchester United vs West Ham — Premier League (Watch Free with VPN)
DESCRIPTION:The Red Devils look to finish the season strong at Old Trafford against a dangerous West Ham side. Crucial points for the top four race.\\n\\nFree on JioCinema (India).\\n\\nFull guide: https://endorso.com/vpn/watch/premier-league-manchester-united-vs-west-ham-2026-05-03
URL:https://endorso.com/vpn/watch/premier-league-manchester-united-vs-west-ham-2026-05-03
LOCATION:https://endorso.com/vpn/watch/premier-league-manchester-united-vs-west-ham-2026-05-03
END:VEVENT
END:VCALENDAR