BEGIN:VCALENDAR
VERSION:2.0
PRODID:-//Endorso//Watch Free Events//EN
CALSCALE:GREGORIAN
METHOD:PUBLISH
BEGIN:VEVENT
UID:premier-league-manchester-united-vs-newcastle-2026-05-03@endorso.com
DTSTAMP:20260424T191623Z
DTSTART:20260503T130000Z
DTEND:20260503T150000Z
SUMMARY:Manchester United vs Newcastle — Premier League (Watch Free with VPN)
DESCRIPTION:Old Trafford hosts a battle between two clubs vying for European dominance in the penultimate weeks.\\n\\nFree on JioCinema (India).\\n\\nFull guide: https://endorso.com/vpn/watch/premier-league-manchester-united-vs-newcastle-2026-05-03
URL:https://endorso.com/vpn/watch/premier-league-manchester-united-vs-newcastle-2026-05-03
LOCATION:https://endorso.com/vpn/watch/premier-league-manchester-united-vs-newcastle-2026-05-03
END:VEVENT
END:VCALENDAR