BEGIN:VCALENDAR
VERSION:2.0
PRODID:-//Endorso//Watch Free Events//EN
CALSCALE:GREGORIAN
METHOD:PUBLISH
BEGIN:VEVENT
UID:premier-league-manchester-united-vs-chelsea-2026-05-02@endorso.com
DTSTAMP:20260422T045600Z
DTSTART:20260502T163000Z
DTEND:20260502T183000Z
SUMMARY:Manchester United vs Chelsea — Premier League (Watch Free with VPN)
DESCRIPTION:Two giants of English football meet at Old Trafford. Both clubs are fighting for a top-four finish to secure Champions League football.\\n\\nFree on Peacock (USA).\\n\\nFull guide: https://endorso.com/vpn/watch/premier-league-manchester-united-vs-chelsea-2026-05-02
URL:https://endorso.com/vpn/watch/premier-league-manchester-united-vs-chelsea-2026-05-02
LOCATION:https://endorso.com/vpn/watch/premier-league-manchester-united-vs-chelsea-2026-05-02
END:VEVENT
END:VCALENDAR