BEGIN:VCALENDAR
VERSION:2.0
PRODID:-//Endorso//Watch Free Events//EN
CALSCALE:GREGORIAN
METHOD:PUBLISH
BEGIN:VEVENT
UID:premier-league-manchester-united-vs-aston-villa-2026-05-03@endorso.com
DTSTAMP:20260422T164955Z
DTSTART:20260503T130000Z
DTEND:20260503T150000Z
SUMMARY:Manchester United vs Aston Villa — Premier League (Watch Free with VPN)
DESCRIPTION:Old Trafford hosts a high-stakes encounter as Aston Villa continues their impressive run against the Red Devils. A crucial game for the top six standings.\\n\\nFree on JioCinema (India).\\n\\nFull guide: https://endorso.com/vpn/watch/premier-league-manchester-united-vs-aston-villa-2026-05-03
URL:https://endorso.com/vpn/watch/premier-league-manchester-united-vs-aston-villa-2026-05-03
LOCATION:https://endorso.com/vpn/watch/premier-league-manchester-united-vs-aston-villa-2026-05-03
END:VEVENT
END:VCALENDAR