BEGIN:VCALENDAR
VERSION:2.0
PRODID:-//Endorso//Watch Free Events//EN
CALSCALE:GREGORIAN
METHOD:PUBLISH
BEGIN:VEVENT
UID:premier-league-manchester-city-vs-everton-2026-04-26@endorso.com
DTSTAMP:20260425T111019Z
DTSTART:20260426T130000Z
DTEND:20260426T150000Z
SUMMARY:Manchester City vs Everton — Premier League (Watch Free with VPN)
DESCRIPTION:The defending champions face a resilient Everton side. City cannot afford to drop points in the title race\, while Everton seeks to avoid the relegation scrap.\\n\\nFree on JioCinema (India).\\n\\nFull guide: https://endorso.com/vpn/watch/premier-league-manchester-city-vs-everton-2026-04-26
URL:https://endorso.com/vpn/watch/premier-league-manchester-city-vs-everton-2026-04-26
LOCATION:https://endorso.com/vpn/watch/premier-league-manchester-city-vs-everton-2026-04-26
END:VEVENT
END:VCALENDAR