BEGIN:VCALENDAR
VERSION:2.0
PRODID:-//Endorso//Watch Free Events//EN
CALSCALE:GREGORIAN
METHOD:PUBLISH
BEGIN:VEVENT
UID:premier-league-manchester-city-vs-everton-2026-04-25@endorso.com
DTSTAMP:20260424T191819Z
DTSTART:20260425T140000Z
DTEND:20260425T160000Z
SUMMARY:Manchester City vs Everton — Premier League (Watch Free with VPN)
DESCRIPTION:The defending champions host Everton in a crucial matchday 35 fixture as the title race reaches its climax.\\n\\nFree on JioCinema (India).\\n\\nFull guide: https://endorso.com/vpn/watch/premier-league-manchester-city-vs-everton-2026-04-25
URL:https://endorso.com/vpn/watch/premier-league-manchester-city-vs-everton-2026-04-25
LOCATION:https://endorso.com/vpn/watch/premier-league-manchester-city-vs-everton-2026-04-25
END:VEVENT
END:VCALENDAR