BEGIN:VCALENDAR
VERSION:2.0
PRODID:-//Endorso//Watch Free Events//EN
CALSCALE:GREGORIAN
METHOD:PUBLISH
BEGIN:VEVENT
UID:premier-league-manchester-city-vs-chelsea-2026-05-02@endorso.com
DTSTAMP:20260425T155757Z
DTSTART:20260502T163000Z
DTEND:20260502T183000Z
SUMMARY:Manchester City vs Chelsea — Premier League (Watch Free with VPN)
DESCRIPTION:The reigning champions host a resurgent Chelsea in a tactical battle between two of England's most expensive squads. Points here could decide the title race.\\n\\nFree on JioCinema (India).\\n\\nFull guide: https://endorso.com/vpn/watch/premier-league-manchester-city-vs-chelsea-2026-05-02
URL:https://endorso.com/vpn/watch/premier-league-manchester-city-vs-chelsea-2026-05-02
LOCATION:https://endorso.com/vpn/watch/premier-league-manchester-city-vs-chelsea-2026-05-02
END:VEVENT
END:VCALENDAR