BEGIN:VCALENDAR
VERSION:2.0
PRODID:-//Endorso//Watch Free Events//EN
CALSCALE:GREGORIAN
METHOD:PUBLISH
BEGIN:VEVENT
UID:premier-league-liverpool-vs-tottenham-2026-04-25@endorso.com
DTSTAMP:20260424T191143Z
DTSTART:20260425T113000Z
DTEND:20260425T133000Z
SUMMARY:Liverpool vs Tottenham — Premier League (Watch Free with VPN)
DESCRIPTION:A high-stakes clash at Anfield as both teams battle for Champions League qualification spots in the final weeks of the season.\\n\\nFree on JioCinema (India).\\n\\nFull guide: https://endorso.com/vpn/watch/premier-league-liverpool-vs-tottenham-2026-04-25
URL:https://endorso.com/vpn/watch/premier-league-liverpool-vs-tottenham-2026-04-25
LOCATION:https://endorso.com/vpn/watch/premier-league-liverpool-vs-tottenham-2026-04-25
END:VEVENT
END:VCALENDAR