BEGIN:VCALENDAR
VERSION:2.0
PRODID:-//Endorso//Watch Free Events//EN
CALSCALE:GREGORIAN
METHOD:PUBLISH
BEGIN:VEVENT
UID:premier-league-liverpool-vs-everton-2026-04-26@endorso.com
DTSTAMP:20260422T045024Z
DTSTART:20260426T153000Z
DTEND:20260426T173000Z
SUMMARY:Liverpool vs Everton — Premier League (Watch Free with VPN)
DESCRIPTION:The Merseyside Derby returns to Anfield. Local pride and crucial points are on the line in one of England's most historic rivalries.\\n\\nFree on BBC iPlayer (UK).\\n\\nFull guide: https://endorso.com/vpn/watch/premier-league-liverpool-vs-everton-2026-04-26
URL:https://endorso.com/vpn/watch/premier-league-liverpool-vs-everton-2026-04-26
LOCATION:https://endorso.com/vpn/watch/premier-league-liverpool-vs-everton-2026-04-26
END:VEVENT
END:VCALENDAR