BEGIN:VCALENDAR
VERSION:2.0
PRODID:-//Endorso//Watch Free Events//EN
CALSCALE:GREGORIAN
METHOD:PUBLISH
BEGIN:VEVENT
UID:premier-league-everton-vs-west-ham-2026-04-27@endorso.com
DTSTAMP:20260421T192432Z
DTSTART:20260427T190000Z
DTEND:20260427T210000Z
SUMMARY:Everton vs West Ham — Premier League (Watch Free with VPN)
DESCRIPTION:Monday Night Football from Goodison Park. A vital game for both sides as they look to secure a strong finish in the final month of the campaign.\\n\\nFree on JioCinema (India).\\n\\nFull guide: https://endorso.com/vpn/watch/premier-league-everton-vs-west-ham-2026-04-27
URL:https://endorso.com/vpn/watch/premier-league-everton-vs-west-ham-2026-04-27
LOCATION:https://endorso.com/vpn/watch/premier-league-everton-vs-west-ham-2026-04-27
END:VEVENT
END:VCALENDAR