BEGIN:VCALENDAR
VERSION:2.0
PRODID:-//Endorso//Watch Free Events//EN
CALSCALE:GREGORIAN
METHOD:PUBLISH
BEGIN:VEVENT
UID:premier-league-everton-vs-man-city-2026-05-03@endorso.com
DTSTAMP:20260419T140626Z
DTSTART:20260503T140000Z
DTEND:20260503T160000Z
SUMMARY:Everton vs Man City — Premier League (Watch Free with VPN)
DESCRIPTION:A Premier League match where Man City needs a win to keep their title hopes alive. Everton will be fighting to avoid relegation.\\n\\nFree on JioCinema (India).\\n\\nFull guide: https://endorso.com/vpn/watch/premier-league-everton-vs-man-city-2026-05-03
URL:https://endorso.com/vpn/watch/premier-league-everton-vs-man-city-2026-05-03
LOCATION:https://endorso.com/vpn/watch/premier-league-everton-vs-man-city-2026-05-03
END:VEVENT
END:VCALENDAR