BEGIN:VCALENDAR
VERSION:2.0
PRODID:-//Endorso//Watch Free Events//EN
CALSCALE:GREGORIAN
METHOD:PUBLISH
BEGIN:VEVENT
UID:premier-league-chelsea-vs-tottenham-2026-05-02@endorso.com
DTSTAMP:20260422T105451Z
DTSTART:20260502T163000Z
DTEND:20260502T183000Z
SUMMARY:Chelsea vs Tottenham — Premier League (Watch Free with VPN)
DESCRIPTION:A fierce London derby at Stamford Bridge as both clubs fight for European spots. Tensions are always high when these two rivals meet in the season's final stretch.\\n\\nFree on JioCinema (India).\\n\\nFull guide: https://endorso.com/vpn/watch/premier-league-chelsea-vs-tottenham-2026-05-02
URL:https://endorso.com/vpn/watch/premier-league-chelsea-vs-tottenham-2026-05-02
LOCATION:https://endorso.com/vpn/watch/premier-league-chelsea-vs-tottenham-2026-05-02
END:VEVENT
END:VCALENDAR