BEGIN:VCALENDAR
VERSION:2.0
PRODID:-//Endorso//Watch Free Events//EN
CALSCALE:GREGORIAN
METHOD:PUBLISH
BEGIN:VEVENT
UID:premier-league-aston-villa-vs-norwich-2026-05-03@endorso.com
DTSTAMP:20260419T171620Z
DTSTART:20260503T113000Z
DTEND:20260503T133000Z
SUMMARY:Aston Villa vs Norwich — Premier League (Watch Free with VPN)
DESCRIPTION:A Premier League match where Aston Villa looks to secure a mid-table finish. Norwich are fighting to avoid relegation.\\n\\nFree on JioCinema (India).\\n\\nFull guide: https://endorso.com/vpn/watch/premier-league-aston-villa-vs-norwich-2026-05-03
URL:https://endorso.com/vpn/watch/premier-league-aston-villa-vs-norwich-2026-05-03
LOCATION:https://endorso.com/vpn/watch/premier-league-aston-villa-vs-norwich-2026-05-03
END:VEVENT
END:VCALENDAR