BEGIN:VCALENDAR
VERSION:2.0
PRODID:-//Endorso//Watch Free Events//EN
CALSCALE:GREGORIAN
METHOD:PUBLISH
BEGIN:VEVENT
UID:premier-league-arsenal-vs-manchester-united-2026-04-25@endorso.com
DTSTAMP:20260425T154150Z
DTSTART:20260425T113000Z
DTEND:20260425T133000Z
SUMMARY:Arsenal vs Manchester United — Premier League (Watch Free with VPN)
DESCRIPTION:A high-stakes clash at the Emirates as Arsenal fights for the title while United battles for a European spot. This historic rivalry remains one of the most watched fixtures in world football.\\n\\nFree on JioCinema (India).\\n\\nFull guide: https://endorso.com/vpn/watch/premier-league-arsenal-vs-manchester-united-2026-04-25
URL:https://endorso.com/vpn/watch/premier-league-arsenal-vs-manchester-united-2026-04-25
LOCATION:https://endorso.com/vpn/watch/premier-league-arsenal-vs-manchester-united-2026-04-25
END:VEVENT
END:VCALENDAR