BEGIN:VCALENDAR
VERSION:2.0
PRODID:-//Endorso//Watch Free Events//EN
CALSCALE:GREGORIAN
METHOD:PUBLISH
BEGIN:VEVENT
UID:premier-league-arsenal-vs-liverpool-2026-04-25@endorso.com
DTSTAMP:20260425T104637Z
DTSTART:20260425T113000Z
DTEND:20260425T133000Z
SUMMARY:Arsenal vs Liverpool — Premier League (Watch Free with VPN)
DESCRIPTION:A potential title-deciding clash at the Emirates Stadium as two heavyweights battle for dominance in the final stretch of the season. Fans are searching for ways to watch this high-stakes encounter live.\\n\\nFree on JioCinema (India).\\n\\nFull guide: https://endorso.com/vpn/watch/premier-league-arsenal-vs-liverpool-2026-04-25
URL:https://endorso.com/vpn/watch/premier-league-arsenal-vs-liverpool-2026-04-25
LOCATION:https://endorso.com/vpn/watch/premier-league-arsenal-vs-liverpool-2026-04-25
END:VEVENT
END:VCALENDAR