BEGIN:VCALENDAR
VERSION:2.0
PRODID:-//Endorso//Watch Free Events//EN
CALSCALE:GREGORIAN
METHOD:PUBLISH
BEGIN:VEVENT
UID:premier-league-arsenal-vs-everton-2026-05-02@endorso.com
DTSTAMP:20260426T044317Z
DTSTART:20260502T140000Z
DTEND:20260502T160000Z
SUMMARY:Arsenal vs Everton — Premier League (Watch Free with VPN)
DESCRIPTION:Arsenal continues their pursuit of the league title against a resilient Everton side fighting to stay clear of the relegation zone.\\n\\nFree on BBC iPlayer (UK).\\n\\nFull guide: https://endorso.com/vpn/watch/premier-league-arsenal-vs-everton-2026-05-02
URL:https://endorso.com/vpn/watch/premier-league-arsenal-vs-everton-2026-05-02
LOCATION:https://endorso.com/vpn/watch/premier-league-arsenal-vs-everton-2026-05-02
END:VEVENT
END:VCALENDAR