BEGIN:VCALENDAR
VERSION:2.0
PRODID:-//Endorso//Watch Free Events//EN
CALSCALE:GREGORIAN
METHOD:PUBLISH
BEGIN:VEVENT
UID:nba-playoffs-r2-game-1-tbd-vs-tbd-2026-05-04@endorso.com
DTSTAMP:20260424T181718Z
DTSTART:20260504T000000Z
DTEND:20260504T020000Z
SUMMARY:NBA Playoffs Conference Semi-Finals — Game 1 (Watch Free with VPN)
DESCRIPTION:The second round of the NBA Playoffs begins. The intensity ramps up as the final eight teams compete for a spot in the Conference Finals.\\n\\nFree on Azteca Deportes (Mexico).\\n\\nFull guide: https://endorso.com/vpn/watch/nba-playoffs-r2-game-1-tbd-vs-tbd-2026-05-04
URL:https://endorso.com/vpn/watch/nba-playoffs-r2-game-1-tbd-vs-tbd-2026-05-04
LOCATION:https://endorso.com/vpn/watch/nba-playoffs-r2-game-1-tbd-vs-tbd-2026-05-04
END:VEVENT
END:VCALENDAR