BEGIN:VCALENDAR
VERSION:2.0
PRODID:-//Endorso//Watch Free Events//EN
CALSCALE:GREGORIAN
METHOD:PUBLISH
BEGIN:VEVENT
UID:nba-playoffs-r2-g1-okc-thunder-vs-tbd-2026-05-04@endorso.com
DTSTAMP:20260425T142155Z
DTSTART:20260504T013000Z
DTEND:20260504T033000Z
SUMMARY:OKC Thunder vs TBD — NBA Playoffs R2 G1 (Watch Free with VPN)
DESCRIPTION:The top-seeded Thunder open the second round at home. Fans are eager to see if the young squad can maintain their momentum against a battle-tested opponent.\\n\\nFree on ERT Play (Greece).\\n\\nFull guide: https://endorso.com/vpn/watch/nba-playoffs-r2-g1-okc-thunder-vs-tbd-2026-05-04
URL:https://endorso.com/vpn/watch/nba-playoffs-r2-g1-okc-thunder-vs-tbd-2026-05-04
LOCATION:https://endorso.com/vpn/watch/nba-playoffs-r2-g1-okc-thunder-vs-tbd-2026-05-04
END:VEVENT
END:VCALENDAR