BEGIN:VCALENDAR
VERSION:2.0
PRODID:-//Endorso//Watch Free Events//EN
CALSCALE:GREGORIAN
METHOD:PUBLISH
BEGIN:VEVENT
UID:nba-playoffs-r2-g1-denver-nuggets-vs-tbd-2026-05-04@endorso.com
DTSTAMP:20260425T154252Z
DTSTART:20260504T010000Z
DTEND:20260504T030000Z
SUMMARY:Denver Nuggets vs TBD — NBA Playoffs R2 G1 (Watch Free with VPN)
DESCRIPTION:The second round of the NBA Playoffs tips off in Denver as the Nuggets begin their quest for another Western Conference title.\\n\\nFree on NBA on ABC (via local antenna) (USA).\\n\\nFull guide: https://endorso.com/vpn/watch/nba-playoffs-r2-g1-denver-nuggets-vs-tbd-2026-05-04
URL:https://endorso.com/vpn/watch/nba-playoffs-r2-g1-denver-nuggets-vs-tbd-2026-05-04
LOCATION:https://endorso.com/vpn/watch/nba-playoffs-r2-g1-denver-nuggets-vs-tbd-2026-05-04
END:VEVENT
END:VCALENDAR