BEGIN:VCALENDAR
VERSION:2.0
PRODID:-//Endorso//Watch Free Events//EN
CALSCALE:GREGORIAN
METHOD:PUBLISH
BEGIN:VEVENT
UID:nba-playoffs-r1g4-milwaukee-bucks-vs-miami-heat-2026-04-27@endorso.com
DTSTAMP:20260419T200512Z
DTSTART:20260427T013000Z
DTEND:20260427T033000Z
SUMMARY:Milwaukee Bucks vs Miami Heat — NBA Playoffs R1 G4 (Watch Free with VPN)
DESCRIPTION:The Milwaukee Bucks host the Miami Heat in Game 4 of their NBA Playoffs first-round series. The Bucks will try to take a commanding lead in the series at home.\\n\\nFree on Pluto TV (USA).\\n\\nFull guide: https://endorso.com/vpn/watch/nba-playoffs-r1g4-milwaukee-bucks-vs-miami-heat-2026-04-27
URL:https://endorso.com/vpn/watch/nba-playoffs-r1g4-milwaukee-bucks-vs-miami-heat-2026-04-27
LOCATION:https://endorso.com/vpn/watch/nba-playoffs-r1g4-milwaukee-bucks-vs-miami-heat-2026-04-27
END:VEVENT
END:VCALENDAR