BEGIN:VCALENDAR
VERSION:2.0
PRODID:-//Endorso//Watch Free Events//EN
CALSCALE:GREGORIAN
METHOD:PUBLISH
BEGIN:VEVENT
UID:nba-playoffs-r1g3-atlanta-hawks-vs-boston-celtics-2026-04-24@endorso.com
DTSTAMP:20260419T200004Z
DTSTART:20260424T230000Z
DTEND:20260425T010000Z
SUMMARY:Atlanta Hawks vs Boston Celtics — NBA Playoffs R1 G3 (Watch Free with VPN)
DESCRIPTION:The Atlanta Hawks host the Boston Celtics in Game 3 of the NBA Playoffs first round. The Hawks will look to defend home court and get back into the series.\\n\\nFree on Pluto TV (USA).\\n\\nFull guide: https://endorso.com/vpn/watch/nba-playoffs-r1g3-atlanta-hawks-vs-boston-celtics-2026-04-24
URL:https://endorso.com/vpn/watch/nba-playoffs-r1g3-atlanta-hawks-vs-boston-celtics-2026-04-24
LOCATION:https://endorso.com/vpn/watch/nba-playoffs-r1g3-atlanta-hawks-vs-boston-celtics-2026-04-24
END:VEVENT
END:VCALENDAR