BEGIN:VCALENDAR
VERSION:2.0
PRODID:-//Endorso//Watch Free Events//EN
CALSCALE:GREGORIAN
METHOD:PUBLISH
BEGIN:VEVENT
UID:nba-playoffs-r1g2-miami-heat-vs-milwaukee-bucks-2026-04-23@endorso.com
DTSTAMP:20260419T200334Z
DTSTART:20260423T003000Z
DTEND:20260423T023000Z
SUMMARY:Miami Heat vs Milwaukee Bucks — NBA Playoffs R1 G2 (Watch Free with VPN)
DESCRIPTION:The Miami Heat host the Milwaukee Bucks in Game 2 of their NBA Playoffs first-round series. The Heat will try to even the series before heading to Milwaukee.\\n\\nFree on Pluto TV (USA).\\n\\nFull guide: https://endorso.com/vpn/watch/nba-playoffs-r1g2-miami-heat-vs-milwaukee-bucks-2026-04-23
URL:https://endorso.com/vpn/watch/nba-playoffs-r1g2-miami-heat-vs-milwaukee-bucks-2026-04-23
LOCATION:https://endorso.com/vpn/watch/nba-playoffs-r1g2-miami-heat-vs-milwaukee-bucks-2026-04-23
END:VEVENT
END:VCALENDAR