BEGIN:VCALENDAR
VERSION:2.0
PRODID:-//Endorso//Watch Free Events//EN
CALSCALE:GREGORIAN
METHOD:PUBLISH
BEGIN:VEVENT
UID:nba-playoffs-r1g2-boston-celtics-vs-atlanta-hawks-2026-04-22@endorso.com
DTSTAMP:20260419T195943Z
DTSTART:20260422T230000Z
DTEND:20260423T010000Z
SUMMARY:Boston Celtics vs Atlanta Hawks — NBA Playoffs R1 G2 (Watch Free with VPN)
DESCRIPTION:The Boston Celtics host the Atlanta Hawks in Game 2 of the NBA Playoffs first round. The Celtics will look to take a 2-0 lead before the series shifts to Atlanta.\\n\\nFree on Pluto TV (USA).\\n\\nFull guide: https://endorso.com/vpn/watch/nba-playoffs-r1g2-boston-celtics-vs-atlanta-hawks-2026-04-22
URL:https://endorso.com/vpn/watch/nba-playoffs-r1g2-boston-celtics-vs-atlanta-hawks-2026-04-22
LOCATION:https://endorso.com/vpn/watch/nba-playoffs-r1g2-boston-celtics-vs-atlanta-hawks-2026-04-22
END:VEVENT
END:VCALENDAR