BEGIN:VCALENDAR
VERSION:2.0
PRODID:-//Endorso//Watch Free Events//EN
CALSCALE:GREGORIAN
METHOD:PUBLISH
BEGIN:VEVENT
UID:nba-playoffs-r1g1-miami-heat-vs-milwaukee-bucks-2026-04-20@endorso.com
DTSTAMP:20260419T200507Z
DTSTART:20260420T013000Z
DTEND:20260420T033000Z
SUMMARY:Miami Heat vs Milwaukee Bucks — NBA Playoffs R1 G1 (Watch Free with VPN)
DESCRIPTION:The Miami Heat take on the Milwaukee Bucks in Game 1 of their NBA Playoffs first-round series. This matchup promises to be a highly competitive contest.\\n\\nFree on Pluto TV (USA).\\n\\nFull guide: https://endorso.com/vpn/watch/nba-playoffs-r1g1-miami-heat-vs-milwaukee-bucks-2026-04-20
URL:https://endorso.com/vpn/watch/nba-playoffs-r1g1-miami-heat-vs-milwaukee-bucks-2026-04-20
LOCATION:https://endorso.com/vpn/watch/nba-playoffs-r1g1-miami-heat-vs-milwaukee-bucks-2026-04-20
END:VEVENT
END:VCALENDAR