BEGIN:VCALENDAR
VERSION:2.0
PRODID:-//Endorso//Watch Free Events//EN
CALSCALE:GREGORIAN
METHOD:PUBLISH
BEGIN:VEVENT
UID:nba-playoffs-r1g1-boston-celtics-vs-atlanta-hawks-2026-04-19@endorso.com
DTSTAMP:20260419T200244Z
DTSTART:20260419T190000Z
DTEND:20260419T210000Z
SUMMARY:Boston Celtics vs Atlanta Hawks — NBA Playoffs R1 G1 (Watch Free with VPN)
DESCRIPTION:The Boston Celtics host the Atlanta Hawks in Game 1 of the NBA Playoffs first round. This is a crucial game as both teams look to gain an early advantage in the series.\\n\\nFree on Pluto TV (USA).\\n\\nFull guide: https://endorso.com/vpn/watch/nba-playoffs-r1g1-boston-celtics-vs-atlanta-hawks-2026-04-19
URL:https://endorso.com/vpn/watch/nba-playoffs-r1g1-boston-celtics-vs-atlanta-hawks-2026-04-19
LOCATION:https://endorso.com/vpn/watch/nba-playoffs-r1g1-boston-celtics-vs-atlanta-hawks-2026-04-19
END:VEVENT
END:VCALENDAR