BEGIN:VCALENDAR
VERSION:2.0
PRODID:-//Endorso//Watch Free Events//EN
CALSCALE:GREGORIAN
METHOD:PUBLISH
BEGIN:VEVENT
UID:nba-playoffs-r1-g6-toronto-raptors-vs-milwaukee-bucks-2026-05-02@endorso.com
DTSTAMP:20260419T141047Z
DTSTART:20260502T230000Z
DTEND:20260503T010000Z
SUMMARY:Toronto Raptors vs Milwaukee Bucks — NBA Playoffs R1 G6 (Watch Free with VPN)
DESCRIPTION:The Toronto Raptors host the Milwaukee Bucks in Game 6 of their first-round playoff series. The Raptors will be fighting to stay alive in the series.\\n\\nFree on Pluto TV (USA).\\n\\nFull guide: https://endorso.com/vpn/watch/nba-playoffs-r1-g6-toronto-raptors-vs-milwaukee-bucks-2026-05-02
URL:https://endorso.com/vpn/watch/nba-playoffs-r1-g6-toronto-raptors-vs-milwaukee-bucks-2026-05-02
LOCATION:https://endorso.com/vpn/watch/nba-playoffs-r1-g6-toronto-raptors-vs-milwaukee-bucks-2026-05-02
END:VEVENT
END:VCALENDAR