BEGIN:VCALENDAR
VERSION:2.0
PRODID:-//Endorso//Watch Free Events//EN
CALSCALE:GREGORIAN
METHOD:PUBLISH
BEGIN:VEVENT
UID:nba-playoffs-r1-g6-los-angeles-lakers-vs-okc-thunder-2026-05-01@endorso.com
DTSTAMP:20260425T160907Z
DTSTART:20260501T023000Z
DTEND:20260501T043000Z
SUMMARY:Los Angeles Lakers vs OKC Thunder — NBA Playoffs R1 G6 (Watch Free with VPN)
DESCRIPTION:LeBron James and the Lakers face a must-win Game 6 against the young\, fast-paced Oklahoma City Thunder.\\n\\nFree on NBA App (USA).\\n\\nFull guide: https://endorso.com/vpn/watch/nba-playoffs-r1-g6-los-angeles-lakers-vs-okc-thunder-2026-05-01
URL:https://endorso.com/vpn/watch/nba-playoffs-r1-g6-los-angeles-lakers-vs-okc-thunder-2026-05-01
LOCATION:https://endorso.com/vpn/watch/nba-playoffs-r1-g6-los-angeles-lakers-vs-okc-thunder-2026-05-01
END:VEVENT
END:VCALENDAR